BEGIN:VCALENDAR
VERSION:2.0
PRODID:-//RPpsy - ECPv6.15.18//NONSGML v1.0//EN
CALSCALE:GREGORIAN
METHOD:PUBLISH
X-WR-CALNAME:RPpsy
X-ORIGINAL-URL:https://www.rppsy.fr
X-WR-CALDESC:Évènements pour RPpsy
REFRESH-INTERVAL;VALUE=DURATION:PT1H
X-Robots-Tag:noindex
X-PUBLISHED-TTL:PT1H
BEGIN:VTIMEZONE
TZID:Europe/Paris
BEGIN:DAYLIGHT
TZOFFSETFROM:+0100
TZOFFSETTO:+0200
TZNAME:CEST
DTSTART:20220327T010000
END:DAYLIGHT
BEGIN:STANDARD
TZOFFSETFROM:+0200
TZOFFSETTO:+0100
TZNAME:CET
DTSTART:20221030T010000
END:STANDARD
BEGIN:DAYLIGHT
TZOFFSETFROM:+0100
TZOFFSETTO:+0200
TZNAME:CEST
DTSTART:20230326T010000
END:DAYLIGHT
BEGIN:STANDARD
TZOFFSETFROM:+0200
TZOFFSETTO:+0100
TZNAME:CET
DTSTART:20231029T010000
END:STANDARD
BEGIN:DAYLIGHT
TZOFFSETFROM:+0100
TZOFFSETTO:+0200
TZNAME:CEST
DTSTART:20240331T010000
END:DAYLIGHT
BEGIN:STANDARD
TZOFFSETFROM:+0200
TZOFFSETTO:+0100
TZNAME:CET
DTSTART:20241027T010000
END:STANDARD
END:VTIMEZONE
BEGIN:VEVENT
DTSTART;TZID=Europe/Paris:20230118T180000
DTEND;TZID=Europe/Paris:20230118T200000
DTSTAMP:20260420T101656
CREATED:20230112T140105Z
LAST-MODIFIED:20230112T140106Z
UID:1479-1674064800-1674072000@www.rppsy.fr
SUMMARY:"Le corps et ses excès"
DESCRIPTION:Bonjour\, \n  \nLe deuxième cycle de conférences transatlantiques « Le corps et ses excès » aura lieu mercredi 18 janvier de 18h15 à 20h15 (amphi S). Nous aurons le plaisir d’accueillir (en présentiel!) Cristina Marcos et Carla Derzi\, enseignantes chercheuses à l’Université Pontificale de Minas Gerais (Brésil). Le titre de leur conférence est « Familles en désordre – La clinique de l’excès et des symptômes contemporains à l’adolescence ».\nEntrée libre et sans inscription.\n \nBien cordialement\,\n \nPierre Bonny et Giorgia Tiscini\n \n \namicalement\, \n  \nPierre
URL:https://www.rppsy.fr/evenement/le-corps-et-ses-exces/
LOCATION:AMPHI S\, Université Rennes 2\, RENNES\, 35043\, France
ATTACH;FMTTYPE=image/jpeg:https://www.rppsy.fr/wp-content/uploads/2023/01/Le-corps-et-ses-exces-enjeux-psychopathologiques-actuels-O-corpo-e-seus-excessos-problemas-psicopatologicos-atuais-1-1.jpg
END:VEVENT
BEGIN:VEVENT
DTSTART;TZID=Europe/Paris:20230126T090000
DTEND;TZID=Europe/Paris:20230126T183000
DTSTAMP:20260420T101656
CREATED:20221108T165738Z
LAST-MODIFIED:20230125T164141Z
UID:1426-1674723600-1674757800@www.rppsy.fr
SUMMARY:"LE(S)  MUR(S) - Psychanalyse\, espace\, habitat"
DESCRIPTION:Journée d’étude mixte présentiel et distanciel du\n \n jeudi 26 Janvier 2023 \nResponsable M. David BERNARD \n  \n  \nArgument : \n« Dès qu’un homme arrive quelque part\, remarquait Jacques Lacan\, dans la forêt vierge ou dans le désert\, il commence par s’enfermer ». Il y aurait ainsi une aspiration  des  sujets  à  s’abriter\,  intra  muros.  Il  s’agira  lors  de  cette  journée d’ouvrir à cette clinique de l’espace de l’être parlant\, en y questionnant depuis la psychanalyse\, mais pas seulement\, son rapport au(x) mur(s). Ce  questionnement sera pluriel. Il y a d’abord le mur du langage que constitue la castration\,  et  qui  selon  Lacan  est  partout.  Drôle  d’espace\,  donc\,  que  celui  de l’être parlant\, où l’on ne cessera de faire le tour du mur\, sans jamais pouvoir atteindre l’Autre côté. A ne pouvoir l’atteindre\, chacun ne manquera pas alors de  le  fantasmer\,  ou  de  le  délirer\,  allant  de  l’espace  balisé  (sic)  du  phobique\, jusqu’à la forteresse de l’obsessionnel\, en passant par le voisinage persécutant du sujet paranoïaque\, aussi bien que les intrigues qu’y guette l’hystérique. \nLe mur\, et les affects qu’il suscite\, ne seront pas non plus sans conséquence sur  le  lien  social\,  et  la  façon  dont  les  parlants  habitent  l’espace.  Pensons  à  ce que nous dévoile\, en sa simplicité exemplaire\, le petit du fort-da. Au moment même  d’advenir  au  langage\,  le  voilà  qui  s’amuse\,  l’air  de  rien\,  à  créer  un  Ici\,  et un Là-bas. Très vite aussi\, l’enfant\, jouant à construire ses premières cabanes\, nous rappellera qu’un espace ne suffit pas à l’habiter\, et qu’il y faut des conditions. La clinique de l’errance et de la rue démontrera encore combien la façon  dont  les  parlants  s’aménagent  leur  coin\,  est  toujours  inédite\,  et  que  les promesses de confort standardisé du discours capitaliste n’y suffiront pas. Enfin\, que dire de ce que l’inconscient\, en nos rêves et cauchemars\, fait de nos seuils\, de nos fenêtres\, de nos portes\, et de nos chambres ? De quoi en chaque cas\,  questionner  ce  qui  fait  l’espace  du  parlant\,  ainsi  que  la  façon  dont  cet espace l’affecte dans ses symptômes\, autant que dans son inscription dans le lien social. Etre maître en sa demeure\, est aussi une passion contemporaine. Nous tâcherons de dire en quoi\, à quel prix\, et ce qu’y répond la psychanalyse\, laquelle pourrait proposer un autre abord du mur\, et de la frontière. \n  \n Comité scientifique :  \nDavid Bernard\, MCF HDR en Psychopathologie (Rennes 2) \nStévan Le Corre\, Doctorant en Psychopathologie (Rennes 2) et Psychologue clinicien Marie Sanchez\, Doctorante en Psychopathologie (Rennes 2) et Psychologue clinicienne Alexandre Faure\, Docteur en Psychopathologie (Rennes 2) et Psychologue clinicien Giorgia Tiscini\, Professeure en Psychopathologie (Rennes 2) \nCamille Veit\, MCF en Psychopathologie (Rennes 2) \n  \ninscriptions sur la plateforme « SCIENCESCONF » \nhttps://lesmurs.sciencesconf.org \nPROGRAMME \nUniversité Rennes 2\nAmphi B8\, Bâtiment B \n8h30 : Accueil \n9h : Ouverture\nGiorgia Tiscini\, Professeure de Psychopathologie\, Directrice adjointe du Laboratoire RPPsy (Rennes 2)\nPrésentation de la journée :\nDavid Bernard\, Maître de conférences HDR en Psychopathologie (Rennes 2) \n9h30 : Présidente de séance : Giorgia Tiscini\n– Alexandre Levy\, Maitre de conférences HDR en Psychopathologie (UCO Angers) : Corps et murs \nparlants\n– Diane Scott\, Psychanalyste\, Directrice de programme au Collège international de philosophie\, \nrédactrice en chef de la Revue Incise : « L’impossible arrive » – Une lecture de L’éthique du réel \nd’Alenka Zupancic \n11h : Pause \n11h30 : Président de séance : David Bernard\nOlivier Douville\, Psychanalyste à Paris\, Laboratoire CRPMS (Université Paris \nCité)\, directeur de publication de Psychologie Clinique : Espaces de l’errance\, contenus et \ndrames. Du mur à la demeure au-delà de la maison \n12h30 : Pause repas \n14h : Président de séance : Alexandre Faure\n– Agnès Jeanjean\, Professeure d’Ethnologie et Philippe Hameau\, Maître de conférences en \nEthnologie\, co- responsables de l’axe de recherche du LAPCOS (Université Côte d’Azur) « \nTerritoires\, environnements : approches plurivoques de l’habiter » : Des murs\, des trous\, \nproposition anthropologique à deux voix\n– Frédéric Vinot\, Maître de conférences HDR en Psychologie clinique (Université Côte \nd’Azur) : Anarchitecture et psychanalyse\n– Marie Sanchez\, Doctorante en Psychopathologie (Rennes 2) et Stévan Le \nCorre\, Doctorant en Psychopathologie (Rennes 2) : De l’Autre côté du mur \n16h : Pause \n16h30 : Présidente de séance : Camille Veit\n– Sylvain Gasté\, Architecte\, Maître de Conférences ENSA Nantes\, Coordinateur de l’option \nde Projet de Master Protolab\, Noée Geindre\, Architecte\, diplômée de l’ENSA Nantes\, et \nViolette Robin\, Etudiante à l’ENSA Nantes :\n« Qu’est-ce que vous faites là ? »\n– Gwénola Drillet\, Coordinatrice générale : Dans et sur les murs de L’hôtel Pasteur \n17h30 : Ouvertures\nLaurent Ottavi\, Professeur émérite de Psychopathologie (Rennes 2) \n  \n  \n  \n  \n  \n  \n  \n  \n  \n  \n  \n  \n  \n  \n  \n  \n  \n  \n  \n  \n  \n  \n  \n  \n  \n  \n  \n  \n  \n  \n  \n\nConception graphique : Myriam Le Corre
URL:https://www.rppsy.fr/evenement/les-murs-psychanalyse-espace-habitat/
LOCATION:UNIVERSITE RENNES 2\, France
ATTACH;FMTTYPE=image/jpeg:https://www.rppsy.fr/wp-content/uploads/2022/11/Affiche-journee-detude-Les-Murs-1.jpg
END:VEVENT
END:VCALENDAR