BEGIN:VCALENDAR
VERSION:2.0
PRODID:-//RPpsy - ECPv6.15.18//NONSGML v1.0//EN
CALSCALE:GREGORIAN
METHOD:PUBLISH
X-ORIGINAL-URL:https://www.rppsy.fr
X-WR-CALDESC:Évènements pour RPpsy
REFRESH-INTERVAL;VALUE=DURATION:PT1H
X-Robots-Tag:noindex
X-PUBLISHED-TTL:PT1H
BEGIN:VTIMEZONE
TZID:Europe/Paris
BEGIN:DAYLIGHT
TZOFFSETFROM:+0100
TZOFFSETTO:+0200
TZNAME:CEST
DTSTART:20220327T010000
END:DAYLIGHT
BEGIN:STANDARD
TZOFFSETFROM:+0200
TZOFFSETTO:+0100
TZNAME:CET
DTSTART:20221030T010000
END:STANDARD
BEGIN:DAYLIGHT
TZOFFSETFROM:+0100
TZOFFSETTO:+0200
TZNAME:CEST
DTSTART:20230326T010000
END:DAYLIGHT
BEGIN:STANDARD
TZOFFSETFROM:+0200
TZOFFSETTO:+0100
TZNAME:CET
DTSTART:20231029T010000
END:STANDARD
BEGIN:DAYLIGHT
TZOFFSETFROM:+0100
TZOFFSETTO:+0200
TZNAME:CEST
DTSTART:20240331T010000
END:DAYLIGHT
BEGIN:STANDARD
TZOFFSETFROM:+0200
TZOFFSETTO:+0100
TZNAME:CET
DTSTART:20241027T010000
END:STANDARD
END:VTIMEZONE
BEGIN:VEVENT
DTSTART;TZID=Europe/Paris:20230201T140000
DTEND;TZID=Europe/Paris:20230201T160000
DTSTAMP:20260420T113751
CREATED:20230130T110823Z
LAST-MODIFIED:20230130T110833Z
UID:1499-1675260000-1675267200@www.rppsy.fr
SUMMARY:SOUTENANCE D'HABILITATION A DIRIGER DES RECHERCHES - Mme GWENOLA DRUEL
DESCRIPTION:ANNONCE DE SOUTENANCE\n\n \n \n \n  \nSoutenance d’Habilitation à Diriger des Recherches de\nMadame Gwénola DRUEL\nmercredi 1er Février à 14h00\n \n\n\n\n\n \nBâtiment Présidence – Salle des Thèses – 7ème étage \n\n\n\n\n\n\n\n  \nGwénola Druel présentera ses travaux en vue de l’obtention du diplôme d’Habilitation à Diriger des Recherches en Psychologie sous la direction de Monsieur Laurent Ottavi.\n \n  \n  \nTitre du document de synthèse:\nAvènement du sujet. Corps\, language\, objet(s) et création.\n\n  \nAvis de soutenance et résumé. \nLa soutenance est publique \n\n\n\n\n \n\n 
URL:https://www.rppsy.fr/evenement/soutenance-dhabilitation-a-diriger-des-recherches-mme-gwenola-druel/
LOCATION:UNIVERSITE RENNES 2\, France
END:VEVENT
BEGIN:VEVENT
DTSTART;TZID=Europe/Paris:20230203T160000
DTEND;TZID=Europe/Paris:20230203T180000
DTSTAMP:20260420T113751
CREATED:20230120T144604Z
LAST-MODIFIED:20230120T144604Z
UID:1487-1675440000-1675447200@www.rppsy.fr
SUMMARY:
DESCRIPTION:
URL:https://www.rppsy.fr/evenement/1487/
LOCATION:AMPHI S\, Université Rennes 2\, RENNES\, 35043\, France
ATTACH;FMTTYPE=image/jpeg:https://www.rppsy.fr/wp-content/uploads/2023/01/affiche-6-scaled.jpg
END:VEVENT
END:VCALENDAR