BEGIN:VCALENDAR
VERSION:2.0
PRODID:-//RPpsy - ECPv6.15.18//NONSGML v1.0//EN
CALSCALE:GREGORIAN
METHOD:PUBLISH
X-WR-CALNAME:RPpsy
X-ORIGINAL-URL:https://www.rppsy.fr
X-WR-CALDESC:Évènements pour RPpsy
REFRESH-INTERVAL;VALUE=DURATION:PT1H
X-Robots-Tag:noindex
X-PUBLISHED-TTL:PT1H
BEGIN:VTIMEZONE
TZID:Europe/Paris
BEGIN:DAYLIGHT
TZOFFSETFROM:+0100
TZOFFSETTO:+0200
TZNAME:CEST
DTSTART:20230326T010000
END:DAYLIGHT
BEGIN:STANDARD
TZOFFSETFROM:+0200
TZOFFSETTO:+0100
TZNAME:CET
DTSTART:20231029T010000
END:STANDARD
BEGIN:DAYLIGHT
TZOFFSETFROM:+0100
TZOFFSETTO:+0200
TZNAME:CEST
DTSTART:20240331T010000
END:DAYLIGHT
BEGIN:STANDARD
TZOFFSETFROM:+0200
TZOFFSETTO:+0100
TZNAME:CET
DTSTART:20241027T010000
END:STANDARD
BEGIN:DAYLIGHT
TZOFFSETFROM:+0100
TZOFFSETTO:+0200
TZNAME:CEST
DTSTART:20250330T010000
END:DAYLIGHT
BEGIN:STANDARD
TZOFFSETFROM:+0200
TZOFFSETTO:+0100
TZNAME:CET
DTSTART:20251026T010000
END:STANDARD
END:VTIMEZONE
BEGIN:VEVENT
DTSTART;TZID=Europe/Paris:20240320T180000
DTEND;TZID=Europe/Paris:20240320T210000
DTSTAMP:20260420T101739
CREATED:20240226T161348Z
LAST-MODIFIED:20240227T133607Z
UID:1786-1710957600-1710968400@www.rppsy.fr
SUMMARY:Conférence : "Enfants terribles et parents exaspérés"
DESCRIPTION:Myriam CHEREL vous invite à une conférence sur la clinique de la parentalité de Mme Valéria Sommer-Dupont\, co-directrice du livre «  Enfants terribles et parents exaspérés »\, le mercredi 20 mars à 18h A2\, bâtiment A.  \n\nLes enfants n’écoutent rien\, piquent des colères\, en font voir de toutes les couleurs à leurs parents exaspérés\, épuisés\, dépassés. Les configurations familiales évoluent\, mais toujours ça part en crise.\nEst-ce le respect du père qui se perd ? la « charge mentale » des femmes qui vire au burn-out maternel ? Comment l’enfant joue-t-il sa partie dans les affaires de famille ?\nHyperactivité\, trouble de l’attention\, hypersensibilité… on impute à l’enfant divers « troubles » et on somme les parents de s’éduquer à la parentalité pour mieux les « gérer ». Les discours éducatifs font rage. On prêche le Père législateur universel ou sa déconstruction systématique. Tous bâtissent de nouveaux idéaux écrasants.\nLacan note dès 1938 le « déclin social de l’imago paternelle »\, mais sans nostalgie. Père et mère ne sont pas des places définies à l’avance. L’arrivée d’un enfant y convoque. Fustiger toute autorité parentale\, croire à l’autodétermination de l’enfant\, ce serait effacer le temps de l’enfance. \nCette conférence s’inscrit dans le cadre du CM M2 PPCP « Clinique de la parentalité » et de la recherche sur « La parentalité contemporaine : crises\, violence et dépressions ». \nOuverte à tous\, étudiants et professionnels – gratuite.  \nLa conférence sera suivie d’une dédicace de l’auteur \n— \nMyriam CHÉREL\nMCF en Psychopathologie et clinique psychanalytique\nDirectrice adjointe du département de psychologie\, UFR Sciences Humaines \nDirectrice d’études Licence de psychologie \nLaboratoire de Recherches en psychopathologie et psychanalyse (RpPSY- EA 4050)\nmyriam.cherel@univ-rennes2.fr \nUniversité Rennes 2\nPlace du recteur Henri Le Moal\nCS 24307\n35043 Rennes cedex
URL:https://www.rppsy.fr/evenement/conference-enfants-terribles-et-parents-exasperes/
LOCATION:AMPHI A2
ATTACH;FMTTYPE=image/jpeg:https://www.rppsy.fr/wp-content/uploads/2024/02/doc2_page_1.jpg
END:VEVENT
END:VCALENDAR