BEGIN:VCALENDAR
VERSION:2.0
PRODID:-//RPpsy - ECPv6.15.18//NONSGML v1.0//EN
CALSCALE:GREGORIAN
METHOD:PUBLISH
X-WR-CALNAME:RPpsy
X-ORIGINAL-URL:https://www.rppsy.fr
X-WR-CALDESC:Évènements pour RPpsy
REFRESH-INTERVAL;VALUE=DURATION:PT1H
X-Robots-Tag:noindex
X-PUBLISHED-TTL:PT1H
BEGIN:VTIMEZONE
TZID:Europe/Paris
BEGIN:DAYLIGHT
TZOFFSETFROM:+0100
TZOFFSETTO:+0200
TZNAME:CEST
DTSTART:20230326T010000
END:DAYLIGHT
BEGIN:STANDARD
TZOFFSETFROM:+0200
TZOFFSETTO:+0100
TZNAME:CET
DTSTART:20231029T010000
END:STANDARD
BEGIN:DAYLIGHT
TZOFFSETFROM:+0100
TZOFFSETTO:+0200
TZNAME:CEST
DTSTART:20240331T010000
END:DAYLIGHT
BEGIN:STANDARD
TZOFFSETFROM:+0200
TZOFFSETTO:+0100
TZNAME:CET
DTSTART:20241027T010000
END:STANDARD
BEGIN:DAYLIGHT
TZOFFSETFROM:+0100
TZOFFSETTO:+0200
TZNAME:CEST
DTSTART:20250330T010000
END:DAYLIGHT
BEGIN:STANDARD
TZOFFSETFROM:+0200
TZOFFSETTO:+0100
TZNAME:CET
DTSTART:20251026T010000
END:STANDARD
END:VTIMEZONE
BEGIN:VEVENT
DTSTART;VALUE=DATE:20240404
DTEND;VALUE=DATE:20240405
DTSTAMP:20260420T113048
CREATED:20240322T082308Z
LAST-MODIFIED:20240325T143938Z
UID:1849-1712188800-1712275199@www.rppsy.fr
SUMMARY:Journée d'étude : « L’audition au cœur de la subjectivité :  une approche pluridisciplinaire de l’événement sonore »
DESCRIPTION:« L’audition au cœur de la subjectivité :  \nune approche pluridisciplinaire de l’événement sonore » \nJournée d’étude RPPsy du 4 avril 2024\, organisée par N. DAUMAN de la composante RPPsy POITIERS CAPS \n  \nUniversité de Poitiers\, Maison des Sciences de l’Homme et de la Société \nCampus universitaire : bâtiment A05 \n  \nEntrée gratuite\, sans inscription \n  \nThème de la journée : \n  \nDes cinq sens qui le mettent au contact du monde\, l’audition est le seul qu’un sujet humain ne peut soustraire à l’influence des événements extérieurs : l’oreille\, dit-on\, n’a pas de paupières. Pour échapper au bruit qu’il ne veut pas entendre\, il n’a ainsi d’autre alternative que d’instaurer une distance physique avec la « source » sonore envahissant un espace qui\, dès lors\, n’est plus tout à fait le sien. Cette propriété du bruit de pouvoir contrarier tant la pensée que la parole\, voire de les rendre impuissantes à s’exercer comme le voudrait le sujet\, est au cœur du champ de l’audition et en détermine les enjeux de territorialité (Barthes et Havas\, 1976). Ainsi le calme est-il nécessaire à la subjectivité\, pour écrire ou parler\, sans quoi l’excès d’une présence devenue « concurrente » rend ces activités impraticables. Comme le soulignait déjà Minkowksi (1936) dans une approche phénoménologique\, tout événement sonore « en dépit du caractère d’extériorité que nous lui attribuons »\, est d’abord une subversion de la distance spatiale sur laquelle nous construisons notre rapport à l’altérité : les sons retentissent dans notre corps dans l’instant même où ils surviennent dans l’espace. Cette intimité entre l’écoute et la conduite humaine se manifeste jusque dans le silence que le sujet est invité à « observer »\, dans les moments les plus solennels de la vie sociale\, où s’impose à chacun la décence d’un effacement de sa présence sonore aux oreilles de tous. D’autre part\, la portée subjectivante du silence est soulignée en psychanalyse avec le concept de pulsion invocante (Lacan\, 1964)\, qui indique le rôle déterminant de l’appel dans l’émergence d’un sujet en devenir\, trouvant un accès à sa propre voix par l’attente d’un autre qui ne la lui confisque pas en parlant à sa place (Vivès\, 2013). De la prise de parole à la confrontation au bruit qui la rend inaudible\, en passant par l’enchantement de l’écoute musicale\, le champ de l’audition interpelle donc par son ubiquité dans l’expérience humaine\, et la difficulté que nous rencontrons précisément pour en dire « le côté fugitif et insaisissable » (Lecourt 1983). \n  \nCette journée d’étude propose d’en questionner certaines dimensions à partir de souffrances auditives faisant événement dans la vie de sujets qui confient leur détresse à l’écoute de psychologues cliniciens à l’hôpital\, en pratique libérale ou en structures spécialisées. Dans leur diversité clinique\, ces souffrances ouvrent des questions nombreuses au sein d’une « anthropologie du sonore » : Comment accompagner les inquiétudes de parents dans l’attente d’une transmission possible de leur voix à leur enfant sourd de naissance\, par le recours à l’implant cochléaire ? Quelle tentative de subjectivation est à l’œuvre dans l’action associative de patients qui plaident pour une reconnaissance\, par les pouvoirs publics\, de leur handicap auditif invisible ? Que peut-on entendre dans la crainte d’un effondrement à venir pour des sujets souffrant d’hyperacousie\, quand ils se heurtent aux bruits de la vie sociale qu’ils n’auront pu éviter à temps ? Et quel espace subjectif les aider à restaurer\, quand l’omniprésence des bruits semble leur imposer de disparaître sur-le-champ\, dans une recherche (interminable) de paisibilité sonore ? Si les bruits émergent de sources extérieures dont nous cherchons habituellement à nous tenir à distance\, comment appréhender la démesure des acouphènes qui résonnent depuis l’intérieur de l’oreille et s’imposent comme une « présence insaisissable » qu’il est impossible de fuir ? Enfin quels liens\, et quelles différences\, peut-on penser entre ces phénomènes d’intrusion sonore et l’hallucination auditive qui est mieux connue\, sans doute\, dans le champ de la psychopathologie ? Ces questions\, parmi d’autres\, pourront servir d’occasion à un dialogue pluridisciplinaire\, afin d’éclairer la portée subjective de l’audition au plus près des paroles entendues en entretien et des écrits sur la sonorité de l’expérience humaine. \nEn vous remerciant par avance\, \nCordialement. \nPROGRAMME \n 
URL:https://www.rppsy.fr/evenement/journee-detude-laudition-au-coeur-de-la-subjectivite-une-approche-pluridisciplinaire-de-levenement-sonore/
LOCATION:Université Poitiers\, Poitiers\, France
ATTACH;FMTTYPE=image/jpeg:https://www.rppsy.fr/wp-content/uploads/2024/03/affiche-a3_laudition-au-coeur-de-la-subjectivite-scaled.jpg
END:VEVENT
BEGIN:VEVENT
DTSTART;TZID=Europe/Paris:20240404T180000
DTEND;TZID=Europe/Paris:20240404T210000
DTSTAMP:20260420T113048
CREATED:20240227T133301Z
LAST-MODIFIED:20240227T133503Z
UID:1797-1712253600-1712264400@www.rppsy.fr
SUMMARY:Conférence : "La différence autistique"
DESCRIPTION: Le Séminaire du Groupe Recherche Autisme (G.R.A) – laboratoire RPPsy invite \nJean-Claude Maleval  \npour une conférence et une conversation clinique autour de son livre  \n« La différence autistique »  \nJeudi 04 avril 2024 à 18h \nEn présence : amphi A1 bâtiment A\, Université Rennes2.  \nPar zoom : sur inscription à l’adresse suivante : pauline.mann@univ-rennes2.fr \n  \nL’autisme ne se caractérise pas seulement par une autre intelligence\, mais aussi par un fonctionnement subjectif et affectif original. Des conséquences en sont tirées pour un mode de prise en charge psychodynamique. \nL’approche psychanalytique contemporaine de l’autisme considère celui-ci comme un mode de fonctionnement spécifique nécessitant une prise en charge adaptée. Elle se détourne radicalement de la recherche d’élucidation d’un passé enfoui pour s’orienter sur l’accompagnement à la construction\, au développement et à l’évidement d’un bord. Ce dernier est constitué par trois éléments\, qui peuvent s’interpénétrer\, auxquels le sujet autiste fait régulièrement et spontanément appel : l’objet autistique\, le double et l’intérêt spécifique. Un savoir inconscient sur la manière de se protéger de l’angoisse et du désir de l’Autre détermine une propension régulière et spontanée à se construire un bord. C’est en passant par celui-ci qu’un lien social peut s’instaurer et s’affermir. \nProgramme :  \n– Conférence Jean-Claude Maleval : La différence autistique \nDiscussion animée par Myriam Chérel. Discutants : Maria Chiara Baldaccini\, Gwénaëlle Barrier\, Emma Bucher\, Pauline Mann\, Françoise Morvan.  \n– Intervention clinique de Françoise Morvan – Thématique : Le double et le transfert ? quelle prise en charge en institution ?  \n– Intervention de Gwénaëlle Barrier – Thématique : Langues et énonciation à partir de l’usage de la musique et de voix de Stanislas chanteur d’Astéréotypies \n  \nL’échange sera suivi d’une dédicace de l’auteur \nSéminaire public ouvert à tous\, étudiants et professionnels – gratuit \n  \n— \nMyriam CHÉREL\nMCF en Psychopathologie et clinique psychanalytique\nDirectrice adjointe du département de psychologie\, UFR Sciences Humaines \nDirectrice d’études Licence de psychologie \nLaboratoire de Recherches en psychopathologie et psychanalyse (RpPSY- EA 4050)\nmyriam.cherel@univ-rennes2.fr \nUniversité Rennes 2\nPlace du recteur Henri Le Moal\nCS 24307\n35043 Rennes cedex
URL:https://www.rppsy.fr/evenement/conference-la-difference-autistique/
LOCATION:AMPHI A1
ATTACH;FMTTYPE=image/jpeg:https://www.rppsy.fr/wp-content/uploads/2024/02/maleval-gra-doc4_page_1.jpg
END:VEVENT
END:VCALENDAR