BEGIN:VCALENDAR
VERSION:2.0
PRODID:-//RPpsy - ECPv6.15.18//NONSGML v1.0//EN
CALSCALE:GREGORIAN
METHOD:PUBLISH
X-ORIGINAL-URL:https://www.rppsy.fr
X-WR-CALDESC:Évènements pour RPpsy
REFRESH-INTERVAL;VALUE=DURATION:PT1H
X-Robots-Tag:noindex
X-PUBLISHED-TTL:PT1H
BEGIN:VTIMEZONE
TZID:Europe/Paris
BEGIN:DAYLIGHT
TZOFFSETFROM:+0100
TZOFFSETTO:+0200
TZNAME:CEST
DTSTART:20240331T010000
END:DAYLIGHT
BEGIN:STANDARD
TZOFFSETFROM:+0200
TZOFFSETTO:+0100
TZNAME:CET
DTSTART:20241027T010000
END:STANDARD
BEGIN:DAYLIGHT
TZOFFSETFROM:+0100
TZOFFSETTO:+0200
TZNAME:CEST
DTSTART:20250330T010000
END:DAYLIGHT
BEGIN:STANDARD
TZOFFSETFROM:+0200
TZOFFSETTO:+0100
TZNAME:CET
DTSTART:20251026T010000
END:STANDARD
BEGIN:DAYLIGHT
TZOFFSETFROM:+0100
TZOFFSETTO:+0200
TZNAME:CEST
DTSTART:20260329T010000
END:DAYLIGHT
BEGIN:STANDARD
TZOFFSETFROM:+0200
TZOFFSETTO:+0100
TZNAME:CET
DTSTART:20261025T010000
END:STANDARD
END:VTIMEZONE
BEGIN:VEVENT
DTSTART;TZID=Europe/Paris:20250925T180000
DTEND;TZID=Europe/Paris:20250925T203000
DTSTAMP:20260421T081852
CREATED:20250828T095750Z
LAST-MODIFIED:20250828T095853Z
UID:2090-1758823200-1758832200@www.rppsy.fr
SUMMARY:Projection d'un film documentaire d'Hervé Guillemain
DESCRIPTION:Le groupe Kairos vous convie le jeudi 25 septembre à la projection du film documentaire d’Hervé Guillemain (professeur d’histoire contemporaine à l’université du Mans) consacré à Jean-Luc Le Ténia Alors je fais des chansons sorti début 2025. La projection sera suivie d’une discussion avec Hervé Guillemain et Quentin Dumoulin\, maître de conférences en psychologie clinique et psychopathologie à l’université Côte d’Azur\, et auteur d’un article sur Jean-Luc Le Ténia paru en 2025 dans la revue Cliniques méditerranéennes.\n\n 
URL:https://www.rppsy.fr/evenement/projection-dun-film-documentaire-dherve-guillemain-le-25-septembre-2025/
LOCATION:Amphi B6\, Université rennes 2
END:VEVENT
END:VCALENDAR